BEGIN:VCALENDAR
VERSION:2.0
PRODID:-//ChamberMaster//Event Calendar 2.0//EN
METHOD:PUBLISH
X-PUBLISHED-TTL:P3D
REFRESH-INTERVAL:P3D
CALSCALE:GREGORIAN
BEGIN:VEVENT
DTSTART:20260508T153000Z
DTEND:20260508T173000Z
X-MICROSOFT-CDO-ALLDAYEVENT:FALSE
SUMMARY:Goodwill Inspiration Awards Luncheon
DESCRIPTION:2026 Inspiration Awards Luncheon Friday\, May 8\, 2026 Chase Center on the Riverfront 815 Justison Street\, Wilmington\, DE Goodwill of Delaware & Delaware County's Inspiration Awards Luncheon brings together more than 350 business and community leaders to celebrate workforce success and the people and partners helping make opportunity possible. Goodwill invites businesses\, elected officials\, community partners\, and supporters to attend and support the event through sponsorship or ticket purchase. Individual tickets are $125\, and sponsorship opportunities are available now at www.GoodwillDE.org/Awards. Organizations are encouraged to commit to sponsorship by April 20 for maximum visibility. More than a sponsor\, participating organizations become workforce and community partners\, helping fuel local talent\, celebrate changemakers\, and expand access to opportunity. Goodwill of Delaware & Delaware County is a 501(c)(3) nonprofit organization whose mission is to improve the quality of life for people facing barriers to self-sufficiency\, through the Power of Work! Our donated goods/retail program funds our mission and aims to help protect our planet through the responsible reuse and recycling of donated items. Our community based workforce development programs (mission) empower people to reach their full potential\, provide for themselves and their families\, and contribute to the economic and social growth of their communities.
X-ALT-DESC;FMTTYPE=text/html:2026 Inspiration Awards Luncheon Friday\, May 8\, 2026 Chase Center on the Riverfront 815 Justison Street\, Wilmington\, DE Goodwill of Delaware &amp\; Delaware County&#39\;s Inspiration Awards Luncheon brings together more than 350 business and community leaders to celebrate workforce success and the people and partners helping make opportunity possible. Goodwill invites businesses\, elected officials\, community partners\, and supporters to attend and support the event through sponsorship or ticket purchase. Individual tickets are $125\, and sponsorship opportunities are available now at www.GoodwillDE.org/Awards. Organizations are encouraged to commit to sponsorship by April 20 for maximum visibility. More than a sponsor\, participating organizations become workforce and community partners\, helping fuel local talent\, celebrate changemakers\, and expand access to opportunity. Goodwill of Delaware &amp\; Delaware County is a 501(c)(3) nonprofit organization whose mission is to improve the quality of life for people facing barriers to self-sufficiency\, through the Power of Work! Our donated goods/retail program funds our mission and aims to help protect our planet through the responsible reuse and recycling of donated items. Our community based workforce development programs (mission) empower people to reach their full potential\, provide for themselves and their families\, and contribute to the economic and social growth of their communities.
LOCATION:Riverfront Ballroom\, Chase Center on the Riverfront 815 Justison Street\, Wilmington\, DE
UID:e.1238.13904
SEQUENCE:3
DTSTAMP:20260422T184937Z
URL:https://business.mbide.com/events/details/goodwill-inspiration-awards-luncheon-05-08-2026-13904
END:VEVENT

END:VCALENDAR
