BEGIN:VCALENDAR
VERSION:2.0
PRODID:-//ChamberMaster//Event Calendar 2.0//EN
METHOD:PUBLISH
X-PUBLISHED-TTL:P3D
REFRESH-INTERVAL:P3D
CALSCALE:GREGORIAN
BEGIN:VEVENT
DTSTART:20260603T180000Z
DTEND:20260603T190000Z
X-MICROSOFT-CDO-ALLDAYEVENT:FALSE
SUMMARY:Sylvan Learning Center
DESCRIPTION:
X-ALT-DESC;FMTTYPE=text/html:
LOCATION:
UID:e.1238.13908
SEQUENCE:3
DTSTAMP:20260422T194804Z
URL:https://business.mbide.com/events/details/sylvan-learning-center-13908
END:VEVENT

END:VCALENDAR
